BEGIN:VCALENDAR
VERSION:2.0
PRODID:-//wisetribe.us//NONSGML kigkonsult.se iCalcreator 2.30.10//
CALSCALE:GREGORIAN
METHOD:PUBLISH
UID:e99f60ed-d482-4f2c-a639-de85eda899ce
X-WR-CALDESC:Join us for a morning of volunteering at Carver Middle School.
  \n\nPlease bring a water bottle\, sunscreen and a hat.
X-WR-RELCALID:507be0250f4fd53116f494e0d4ef2d29
X-WR-TIMEZONE:America/New_York
BEGIN:VTIMEZONE
TZID:America/New_York
BEGIN:STANDARD
TZNAME:EST
DTSTART:20211107T020000
TZOFFSETFROM:-0400
TZOFFSETTO:-0500
RDATE:20221106T020000
RDATE:20231105T020000
END:STANDARD
BEGIN:DAYLIGHT
TZNAME:EDT
DTSTART:20220313T020000
TZOFFSETFROM:-0500
TZOFFSETTO:-0400
RDATE:20230312T020000
RDATE:20240310T020000
END:DAYLIGHT
END:VTIMEZONE
BEGIN:VEVENT
UID:69e3f746-bbfd-453a-8f15-87d09541a6ea
DTSTAMP:20260423T062911Z
DESCRIPTION:Join us for a morning of volunteering at Carver Middle School. 
 \n\nPlease bring a water bottle\, sunscreen and a hat.
DTSTART;TZID=America/New_York:20221022T083000
DTEND;TZID=America/New_York:20221022T120000
LOCATION:101 Barwick Rd\, Delray Beach\, FL 33445 US
SUMMARY:School Garden & Campus Uplift
END:VEVENT
END:VCALENDAR
