BEGIN:VCALENDAR
VERSION:2.0
PRODID:-//wisetribe.us//NONSGML kigkonsult.se iCalcreator 2.30.10//
CALSCALE:GREGORIAN
METHOD:PUBLISH
UID:e0a9d048-3c01-4c5e-b25d-afd8e5cb7d02
X-WR-CALDESC:
X-WR-RELCALID:e15be698dd80156681952785fd6bde24
X-WR-TIMEZONE:America/New_York
BEGIN:VTIMEZONE
TZID:America/New_York
BEGIN:STANDARD
TZNAME:EST
DTSTART:20241103T020000
TZOFFSETFROM:-0400
TZOFFSETTO:-0500
RDATE:20251102T020000
RDATE:20261101T020000
END:STANDARD
BEGIN:DAYLIGHT
TZNAME:EDT
DTSTART:20250309T020000
TZOFFSETFROM:-0500
TZOFFSETTO:-0400
RDATE:20260308T020000
END:DAYLIGHT
END:VTIMEZONE
BEGIN:VEVENT
UID:363bfdf5-f811-423a-8086-ea52bf3c537d
DTSTAMP:20260420T204934Z
DESCRIPTION:
DTSTART;TZID=America/New_York:20250512T170000
DTEND;TZID=America/New_York:20250512T180000
LOCATION:https://us02web.zoom.us/j/756727181
SUMMARY:Board Meeting for WiseTribe - 2nd Monday of Every Month
END:VEVENT
END:VCALENDAR
