BEGIN:VCALENDAR
VERSION:2.0
PRODID:-//wisetribe.us//NONSGML kigkonsult.se iCalcreator 2.30.10//
CALSCALE:GREGORIAN
METHOD:PUBLISH
UID:6a48132d-8411-4883-90b9-7589bf7c66c6
X-WR-CALDESC:
X-WR-RELCALID:047dfa9411257e40e0146cae660a2e0e
X-WR-TIMEZONE:America/New_York
BEGIN:VTIMEZONE
TZID:America/New_York
BEGIN:STANDARD
TZNAME:EST
DTSTART:20241103T020000
TZOFFSETFROM:-0400
TZOFFSETTO:-0500
RDATE:20251102T020000
RDATE:20261101T020000
END:STANDARD
BEGIN:DAYLIGHT
TZNAME:EDT
DTSTART:20250309T020000
TZOFFSETFROM:-0500
TZOFFSETTO:-0400
RDATE:20260308T020000
RDATE:20270314T020000
END:DAYLIGHT
END:VTIMEZONE
BEGIN:VEVENT
UID:8fca0450-92ff-4e5e-a914-d0981e693867
DTSTAMP:20260420T131325Z
DESCRIPTION:
DTSTART;TZID=America/New_York:20251013T170000
DTEND;TZID=America/New_York:20251013T180000
LOCATION:https://us02web.zoom.us/j/756727181
SUMMARY:Board Meeting for WiseTribe - 2nd Monday of Every Month
END:VEVENT
END:VCALENDAR
