BEGIN:VCALENDAR
VERSION:2.0
PRODID:-//wisetribe.us//NONSGML kigkonsult.se iCalcreator 2.30.10//
CALSCALE:GREGORIAN
METHOD:PUBLISH
UID:ec30b262-f85d-4ef4-a4c3-c01a1b292f97
X-WR-CALDESC:
X-WR-RELCALID:f2b3bc941478428edb5d04a057554a4c
X-WR-TIMEZONE:America/New_York
BEGIN:VTIMEZONE
TZID:America/New_York
BEGIN:STANDARD
TZNAME:EST
DTSTART:20251102T020000
TZOFFSETFROM:-0400
TZOFFSETTO:-0500
RDATE:20261101T020000
RDATE:20271107T020000
END:STANDARD
BEGIN:DAYLIGHT
TZNAME:EDT
DTSTART:20260308T020000
TZOFFSETFROM:-0500
TZOFFSETTO:-0400
RDATE:20270314T020000
END:DAYLIGHT
END:VTIMEZONE
BEGIN:VEVENT
UID:8ae65598-f0e4-44d8-870d-f42cda7ca3d8
DTSTAMP:20260422T140317Z
DESCRIPTION:
DTSTART;TZID=America/New_York:20260713T170000
DTEND;TZID=America/New_York:20260713T180000
LOCATION:https://us02web.zoom.us/j/756727181
SUMMARY:Board Meeting for WiseTribe - 2nd Monday of Every Month
END:VEVENT
END:VCALENDAR
