BEGIN:VCALENDAR
VERSION:2.0
PRODID:-//wisetribe.us//NONSGML kigkonsult.se iCalcreator 2.30.10//
CALSCALE:GREGORIAN
METHOD:PUBLISH
UID:4f685ab6-06fb-4435-b1c3-ce3fe36478d7
X-WR-CALDESC:
X-WR-RELCALID:6b365f1de1aef60856a21a96d05c8994
X-WR-TIMEZONE:America/New_York
BEGIN:VTIMEZONE
TZID:America/New_York
BEGIN:STANDARD
TZNAME:EST
DTSTART:20271107T020000
TZOFFSETFROM:-0400
TZOFFSETTO:-0500
RDATE:20281105T020000
RDATE:20291104T020000
END:STANDARD
BEGIN:DAYLIGHT
TZNAME:EDT
DTSTART:20280312T020000
TZOFFSETFROM:-0500
TZOFFSETTO:-0400
RDATE:20290311T020000
END:DAYLIGHT
END:VTIMEZONE
BEGIN:VEVENT
UID:647cfcd2-b3fc-44fc-8ae5-54cf407086c6
DTSTAMP:20260423T204528Z
DESCRIPTION:
DTSTART;TZID=America/New_York:20280508T170000
DTEND;TZID=America/New_York:20280508T180000
LOCATION:https://us02web.zoom.us/j/756727181
SUMMARY:Board Meeting for WiseTribe - 2nd Monday of Every Month
END:VEVENT
END:VCALENDAR
