BEGIN:VCALENDAR
VERSION:2.0
PRODID:-//wisetribe.us//NONSGML kigkonsult.se iCalcreator 2.30.10//
CALSCALE:GREGORIAN
METHOD:PUBLISH
UID:5cf62ccf-7346-4fce-ba68-db41a1074777
X-WR-CALDESC:
X-WR-RELCALID:51c93bb1cd1d4dc68f0b47f813cacacf
X-WR-TIMEZONE:America/New_York
BEGIN:VTIMEZONE
TZID:America/New_York
BEGIN:STANDARD
TZNAME:EST
DTSTART:20271107T020000
TZOFFSETFROM:-0400
TZOFFSETTO:-0500
RDATE:20281105T020000
RDATE:20291104T020000
END:STANDARD
BEGIN:DAYLIGHT
TZNAME:EDT
DTSTART:20280312T020000
TZOFFSETFROM:-0500
TZOFFSETTO:-0400
RDATE:20290311T020000
END:DAYLIGHT
END:VTIMEZONE
BEGIN:VEVENT
UID:2a0338a5-a997-434c-a566-41920df3c9ae
DTSTAMP:20260424T003514Z
DESCRIPTION:
DTSTART;TZID=America/New_York:20280710T170000
DTEND;TZID=America/New_York:20280710T180000
LOCATION:https://us02web.zoom.us/j/756727181
SUMMARY:Board Meeting for WiseTribe - 2nd Monday of Every Month
END:VEVENT
END:VCALENDAR
